BEGIN:VCALENDAR
VERSION:2.0
PRODID:-//hacksw/handcal//NONSGML v1.0//EN
CALSCALE:GREGORIAN
BEGIN:VEVENT
UID:598172172de3f
DTSTAMP:20170801T233254Z
DTSTART:20170712T170000Z
DTEND:20170712T180000Z
LOCATION:Virtual Event
SUMMARY:Early Careerists Webinar: Medical Identity Theft: Healthcare Career Skills Preparation
DESCRIPTION:Medical identify theft in healthcare is a growing issue.&nbsp\; This webinar will provide an overview of the issue and discuss the skill sets needed for prevention and security of patient information.Understand the issue of medical identify theftIdentify skills needed for prevention and security of patient informationIdentify resources to assist in safeguarding of medical dataSpeakerChristina E. Neider\, Ed.D\, Dean\, Undergraduate Health Services Administration Programs\, University of Phoenix\, College of Health Professions
URL;VALUE=URI:https://himss.webex.com/himss/onstage/g.php?MTID=e78df64ce75b20b93f2e799427ba01052
END:VEVENT
END:VCALENDAR